BEGIN:VCALENDAR
VERSION:2.0
PRODID:https://www.theaterfreunde.ch
METHOD:PUBLISH
BEGIN:VEVENT
LOCATION:<span>Bühne Stadttheater Solothurn,</span> <span>Theatergasse 18,</span> <span>4500&nbsp;Solothurn</span>
SUMMARY:«Der satanarchäolügenialkohöllische Wunschpunsch»
DESCRIPTION:Zaubermärchen von Michael Ende. Bühnen-Probenbesuch für die ganze Familie.
CLASS:PUBLIC
DTSTART:20251017T103000
DTEND:20251017T113000
END:VEVENT
END:VCALENDAR