BEGIN:VCALENDAR
VERSION:2.0
PRODID:https://www.theaterfreunde.ch
METHOD:PUBLISH
BEGIN:VEVENT
LOCATION:<span>Probebühne 1,</span> <span>Dornacherstrasse 37,</span> <span>4500&nbsp;Solothurn</span>
SUMMARY:«Home» / Uraufführung von Antoine Jaccoud
DESCRIPTION:Nach dem Film von Ursula Meier. Erweiterte Konzeptionsprobe auf der Probebühne 1
CLASS:PUBLIC
DTSTART:20251209T190000
DTEND:20251209T200000
END:VEVENT
END:VCALENDAR