BEGIN:VCALENDAR
VERSION:2.0
PRODID:https://www.theaterfreunde.ch
METHOD:PUBLISH
BEGIN:VEVENT
LOCATION:<span>Bühne Stadttheater Solothurn,</span> <span>Theatergasse 18,</span> <span>4500&nbsp;Solothurn</span>
SUMMARY:«La Bohème» von Giacomo Puccini
DESCRIPTION:Treffen mit der Dramaturgin und dem Chordirektor.
CLASS:PUBLIC
DTSTART:20260227T181500
DTEND:20260227T193000
END:VEVENT
END:VCALENDAR